Workbook
Name scKunde: #N/A
Name scMitarbeiter: #N/A
Name scProjekt: #N/A
Name scTaetigkeit: #N/A
Name scZeitraum: #N/A

Sheet Beispiel-Auswertung
B2: Aktive Kunden | E2: Aktive Projekte | H2: Aktive Mitarbeiter | K2: Aktive Tätigkeiten | N2: Zeiteinträge
B3: =Pivotdaten!$A$2 -> 0 | E3: =Pivotdaten!$A$26 -> 0 | H3: =Pivotdaten!$A$50 -> 0 | K3: =Pivotdaten!$A$74 -> 0 | N3: =Pivotdaten!$A$98 -> 0
B7: =IF(IFERROR(Pivotdaten!$B$98,0)=0,"Noch keine Daten geladen. Wählen Sie Daten > Alle aktualisieren.","") -> Noch keine Daten geladen. Wählen Sie Daten > Alle aktualisieren.
B9: Filter für die Auswertung | L9: Zeiteinträge (gefiltert)
B10: Ihre Auswahl gilt für die Diagramme, die Anzahl und die fünf neuesten Zeiteinträge unten. | L10: =Pivotdaten!$A$122 -> 0
B104: Die 5 neuesten Zeiteinträge (gefiltert)
B106: Mitarbeiter | D106: Kunde | F106: Projekt | H106: Tätigkeit | J106: Startzeit | L106: Endzeit | N106: Dauer
B107: =IF(ISNUMBER(Pivotdaten!$B$326),TRIM(Pivotdaten!$C$326&" "&Pivotdaten!$D$326),"") | D107: =IF(ISNUMBER(Pivotdaten!$B$326),Pivotdaten!$E$326,"") | F107: =IF(ISNUMBER(Pivotdaten!$B$326),Pivotdaten!$F$326,"") | H107: =IF(ISNUMBER(Pivotdaten!$B$326),Pivotdaten!$G$326,"") | J107: =IF(ISNUMBER(Pivotdaten!$B$326),Pivotdaten!$A$326,"") | L107: =IF(ISNUMBER(Pivotdaten!$B$326),Pivotdaten!$H$326,"") | N107: =IF(ISNUMBER(Pivotdaten!$B$326),IF(ISNUMBER(Pivotdaten!$I$326),INT(Pivotdaten!$I$326/60)/1440,""),"")
B108: =IF(ISNUMBER(Pivotdaten!$B$327),TRIM(Pivotdaten!$C$327&" "&Pivotdaten!$D$327),"") | D108: =IF(ISNUMBER(Pivotdaten!$B$327),Pivotdaten!$E$327,"") | F108: =IF(ISNUMBER(Pivotdaten!$B$327),Pivotdaten!$F$327,"") | H108: =IF(ISNUMBER(Pivotdaten!$B$327),Pivotdaten!$G$327,"") | J108: =IF(ISNUMBER(Pivotdaten!$B$327),Pivotdaten!$A$327,"") | L108: =IF(ISNUMBER(Pivotdaten!$B$327),Pivotdaten!$H$327,"") | N108: =IF(ISNUMBER(Pivotdaten!$B$327),IF(ISNUMBER(Pivotdaten!$I$327),INT(Pivotdaten!$I$327/60)/1440,""),"")
B109: =IF(ISNUMBER(Pivotdaten!$B$328),TRIM(Pivotdaten!$C$328&" "&Pivotdaten!$D$328),"") | D109: =IF(ISNUMBER(Pivotdaten!$B$328),Pivotdaten!$E$328,"") | F109: =IF(ISNUMBER(Pivotdaten!$B$328),Pivotdaten!$F$328,"") | H109: =IF(ISNUMBER(Pivotdaten!$B$328),Pivotdaten!$G$328,"") | J109: =IF(ISNUMBER(Pivotdaten!$B$328),Pivotdaten!$A$328,"") | L109: =IF(ISNUMBER(Pivotdaten!$B$328),Pivotdaten!$H$328,"") | N109: =IF(ISNUMBER(Pivotdaten!$B$328),IF(ISNUMBER(Pivotdaten!$I$328),INT(Pivotdaten!$I$328/60)/1440,""),"")
B110: =IF(ISNUMBER(Pivotdaten!$B$329),TRIM(Pivotdaten!$C$329&" "&Pivotdaten!$D$329),"") | D110: =IF(ISNUMBER(Pivotdaten!$B$329),Pivotdaten!$E$329,"") | F110: =IF(ISNUMBER(Pivotdaten!$B$329),Pivotdaten!$F$329,"") | H110: =IF(ISNUMBER(Pivotdaten!$B$329),Pivotdaten!$G$329,"") | J110: =IF(ISNUMBER(Pivotdaten!$B$329),Pivotdaten!$A$329,"") | L110: =IF(ISNUMBER(Pivotdaten!$B$329),Pivotdaten!$H$329,"") | N110: =IF(ISNUMBER(Pivotdaten!$B$329),IF(ISNUMBER(Pivotdaten!$I$329),INT(Pivotdaten!$I$329/60)/1440,""),"")
B111: =IF(ISNUMBER(Pivotdaten!$B$330),TRIM(Pivotdaten!$C$330&" "&Pivotdaten!$D$330),"") | D111: =IF(ISNUMBER(Pivotdaten!$B$330),Pivotdaten!$E$330,"") | F111: =IF(ISNUMBER(Pivotdaten!$B$330),Pivotdaten!$F$330,"") | H111: =IF(ISNUMBER(Pivotdaten!$B$330),Pivotdaten!$G$330,"") | J111: =IF(ISNUMBER(Pivotdaten!$B$330),Pivotdaten!$A$330,"") | L111: =IF(ISNUMBER(Pivotdaten!$B$330),Pivotdaten!$H$330,"") | N111: =IF(ISNUMBER(Pivotdaten!$B$330),IF(ISNUMBER(Pivotdaten!$I$330),INT(Pivotdaten!$I$330/60)/1440,""),"")

Sheet Pivotdaten
A1: LMT Aktive Kunden
A25: LMT Aktive Projekte
A49: LMT Aktive Mitarbeiter
A73: LMT Aktive Tätigkeiten
A97: LMT Zeiteinträge | B97: LMT Geladene Datensätze
A121: LMT Zeiteinträge
J325: LMT Startzeit-Sortierung
